BEGIN:VCALENDAR
VERSION:2.0
PRODID:-//Plone.org//NONSGML plone.app.event//EN
X-WR-TIMEZONE:Europe/Berlin
BEGIN:VEVENT
SUMMARY:Aktionswochen und Vortragsreihe zu Lern(um)welten
DTSTART;VALUE=DATE:20260420
DTEND;VALUE=DATE:20260501
DTSTAMP:20260420T132701Z
UID:aa42a7b884aa48008602b903027f32e4@dipf_zeoclients
CATEGORIES:Veranstaltung
CREATED:20260330T090014Z
DESCRIPTION:Vorträge\, Materialien\, Podcasts: Der Deutsche Bildungsserve
 r stellt das Thema in unterschiedlichen Formaten vor.\nhttps://www.dipf.de
 /de/dipf-aktuell/veranstaltungen-1/aktionswochen-und-vortragsreihe-zu-lern
 -um-welten
LAST-MODIFIED:20260415T070108Z
LOCATION:virtuell
URL:https://www.dipf.de/de/dipf-aktuell/veranstaltungen-1/aktionswochen-un
 d-vortragsreihe-zu-lern-um-welten
END:VEVENT
END:VCALENDAR
