BEGIN:VCALENDAR
VERSION:2.0
PRODID:-//Plone.org//NONSGML plone.app.event//EN
X-WR-TIMEZONE:Europe/Berlin
BEGIN:VEVENT
SUMMARY:Bildung im Dialog – Wissenschaft trifft Praxis: Vielfalt und Ler
 nen gestalten
DTSTART;TZID=Europe/Berlin:20260313T100000
DTEND;TZID=Europe/Berlin:20260313T130000
DTSTAMP:20260422T185308Z
UID:a3177d8423724d6ba2aa3c984a8191a8@dipf_zeoclients
CATEGORIES:Veranstaltung
CREATED:20260311T073403Z
DESCRIPTION:Das Leibniz-Forschungsnetzwerk Bildungspotenziale (LERN) ist i
 m Rahmen einer Sonderveranstaltung am 13. März 2026 auf der Didacta Bildu
 ngsmesse in Köln.\nhttps://www.dipf.de/de/dipf-aktuell/veranstaltungen-1/
 bildung-im-dialog-wissenschaft-trifft-praxis-vielfalt-und-lernen-gestalten
LAST-MODIFIED:20260311T095706Z
LOCATION:Congress-Centrum Nord\, Rheinsaal 4\, Messe Köln
URL:https://www.dipf.de/de/dipf-aktuell/veranstaltungen-1/bildung-im-dialo
 g-wissenschaft-trifft-praxis-vielfalt-und-lernen-gestalten
END:VEVENT
BEGIN:VTIMEZONE
TZID:Europe/Berlin
X-LIC-LOCATION:Europe/Berlin
BEGIN:STANDARD
DTSTART:20251026T020000
TZNAME:CET
TZOFFSETFROM:+0200
TZOFFSETTO:+0100
END:STANDARD
END:VTIMEZONE
END:VCALENDAR
