BEGIN:VCALENDAR
VERSION:2.0
PRODID:-//Plone.org//NONSGML plone.app.event//EN
X-WR-TIMEZONE:Europe/Berlin
BEGIN:VEVENT
SUMMARY:Digitaltag: Wir sind dabei!
DTSTART;TZID=Europe/Berlin:20260626T153000
DTEND;TZID=Europe/Berlin:20260626T163000
DTSTAMP:20260420T131110Z
UID:d87391e5421f4a8ca00455fb90f3ec39@dipf_zeoclients
CATEGORIES:Veranstaltung
CREATED:20260420T074200Z
DESCRIPTION:Am 26. Juni ist auch das DIPF beim bundesweiten Aktionstag dab
 ei. Vorgestellt wird die PROMPT-App.\nhttps://www.dipf.de/de/dipf-aktuell/
 veranstaltungen-1/digitaltag-wir-sind-dabei-1
LAST-MODIFIED:20260420T080846Z
LOCATION:virtuell
URL:https://www.dipf.de/de/dipf-aktuell/veranstaltungen-1/digitaltag-wir-s
 ind-dabei-1
END:VEVENT
BEGIN:VTIMEZONE
TZID:Europe/Berlin
X-LIC-LOCATION:Europe/Berlin
BEGIN:DAYLIGHT
DTSTART:20260329T030000
TZNAME:CEST
TZOFFSETFROM:+0100
TZOFFSETTO:+0200
END:DAYLIGHT
END:VTIMEZONE
END:VCALENDAR
