BEGIN:VCALENDAR
VERSION:2.0
PRODID:-//Plone.org//NONSGML plone.app.event//EN
X-WR-TIMEZONE:Europe/Berlin
BEGIN:VEVENT
SUMMARY:Last Friday’s Lab Talk: Wissensgraph Bildung
DTSTART;TZID=Europe/Berlin:20260424T120000
DTEND;TZID=Europe/Berlin:20260424T130000
DTSTAMP:20260420T115720Z
UID:4acd4e9c94c845adabfa14d03f5a20d4@dipf_zeoclients
CATEGORIES:Veranstaltung
CREATED:20260327T090156Z
DESCRIPTION:Onlinevortrag von Marcel Jungmann (IZB des DIPF) in der Reihe 
 „Last Friday’s Lab Talk“ des DHELab der BBF.\nhttps://www.dipf.de/de
 /dipf-aktuell/veranstaltungen-1/last-fridays-lab-talk-wissensgraph-bildung
LAST-MODIFIED:20260408T122935Z
LOCATION:virtuell
URL:https://www.dipf.de/de/dipf-aktuell/veranstaltungen-1/last-fridays-lab
 -talk-wissensgraph-bildung
END:VEVENT
BEGIN:VTIMEZONE
TZID:Europe/Berlin
X-LIC-LOCATION:Europe/Berlin
BEGIN:DAYLIGHT
DTSTART:20260329T030000
TZNAME:CEST
TZOFFSETFROM:+0100
TZOFFSETTO:+0200
END:DAYLIGHT
END:VTIMEZONE
END:VCALENDAR
