BEGIN:VCALENDAR
VERSION:2.0
PRODID:-//Plone.org//NONSGML plone.app.event//EN
X-WR-TIMEZONE:Europe/Berlin
BEGIN:VEVENT
SUMMARY:„Last Friday’s Lab Talk" des DHELab an der BBF
DTSTART;TZID=Europe/Berlin:20240628T120000
DTEND;TZID=Europe/Berlin:20240628T130000
DTSTAMP:20260419T154513Z
UID:7e344b5662b948348a45861ffa5b92fe@dipf_zeoclients
CATEGORIES:Veranstaltung
CREATED:20231020T085642Z
DESCRIPTION:Am 28. Juni mit dem Online-Vortrag „KI-gestützte Literaturr
 echerche"\nhttps://www.dipf.de/de/dipf-aktuell/veranstaltungen-1/last-frid
 ays-lab-talk
LAST-MODIFIED:20240611T111759Z
LOCATION:virtuell
URL:https://www.dipf.de/de/dipf-aktuell/veranstaltungen-1/last-fridays-lab
 -talk
END:VEVENT
BEGIN:VTIMEZONE
TZID:Europe/Berlin
X-LIC-LOCATION:Europe/Berlin
BEGIN:DAYLIGHT
DTSTART:20240331T030000
TZNAME:CEST
TZOFFSETFROM:+0100
TZOFFSETTO:+0200
END:DAYLIGHT
END:VTIMEZONE
END:VCALENDAR
