BEGIN:VCALENDAR
VERSION:2.0
PRODID:-//Plone.org//NONSGML plone.app.event//EN
X-WR-TIMEZONE:Europe/Berlin
BEGIN:VEVENT
SUMMARY:Meet-the-Data @Bildungsforschung
DTSTART;TZID=Europe/Berlin:20260115T131500
DTEND;TZID=Europe/Berlin:20260115T140000
DTSTAMP:20260420T102752Z
UID:dbaa9584ad4940fcbb8422d389a9f4fa@dipf_zeoclients
CATEGORIES:Veranstaltung
CREATED:20251211T101409Z
DESCRIPTION:Die Online-Veranstaltungsreihe startet ins neue Jahr: "Digital
 e Bestände der BBF – Daten für die Historische Bildungsforschung"\nhtt
 ps://www.dipf.de/de/dipf-aktuell/veranstaltungen-1/meet-the-data-bildungsf
 orschung-2
LAST-MODIFIED:20260112T080007Z
LOCATION:online
URL:https://www.dipf.de/de/dipf-aktuell/veranstaltungen-1/meet-the-data-bi
 ldungsforschung-2
END:VEVENT
BEGIN:VTIMEZONE
TZID:Europe/Berlin
X-LIC-LOCATION:Europe/Berlin
BEGIN:STANDARD
DTSTART:20251026T020000
TZNAME:CET
TZOFFSETFROM:+0200
TZOFFSETTO:+0100
END:STANDARD
END:VTIMEZONE
END:VCALENDAR
