BEGIN:VCALENDAR
VERSION:2.0
PRODID:-//Plone.org//NONSGML plone.app.event//EN
X-WR-TIMEZONE:Europe/Berlin
BEGIN:VEVENT
SUMMARY:"Tatsache Bildung" in Frankfurt
DTSTART;VALUE=DATE:20260915
DTEND;VALUE=DATE:20261118
DTSTAMP:20260420T032139Z
UID:91f16f18b41142aa963ba5c82ab8c2cd@dipf_zeoclients
CATEGORIES:Veranstaltung
CREATED:20260123T111209Z
DESCRIPTION:75 Jahre Institutsgeschichte des DIPF werden in einer spannend
 en Ausstellung in Frankfurt erlebbar.\nhttps://www.dipf.de/de/dipf-aktuell
 /veranstaltungen-1/tatsache-bildung-in-frankfurt
LAST-MODIFIED:20260123T121647Z
LOCATION:DIPF\, Rostocker Straße 6\, 60323 Frankfurt am Main
URL:https://www.dipf.de/de/dipf-aktuell/veranstaltungen-1/tatsache-bildung
 -in-frankfurt
END:VEVENT
END:VCALENDAR
