BEGIN:VCALENDAR
VERSION:2.0
PRODID:-//Plone.org//NONSGML plone.app.event//EN
X-WR-TIMEZONE:Europe/Berlin
BEGIN:VEVENT
SUMMARY:DIPF Experts at ‘Book a Scientist’
DTSTART;TZID=Europe/Berlin:20250603T100000
DTEND;TZID=Europe/Berlin:20250603T170000
DTSTAMP:20260420T102615Z
UID:2e4496273a9e4f04a3b04470423ddbcf@dipf_zeoclients
CATEGORIES:events
CREATED:20250521T091358Z
DESCRIPTION:The Leibniz Association's popular science speed dating event w
 ill take place again on 3 June.\nhttps://www.dipf.de/en/dipf-news/events/d
 ipf-experts-at-book-a-scientist
LAST-MODIFIED:20250901T105257Z
URL:https://www.dipf.de/en/dipf-news/events/dipf-experts-at-book-a-scienti
 st
END:VEVENT
BEGIN:VTIMEZONE
TZID:Europe/Berlin
X-LIC-LOCATION:Europe/Berlin
BEGIN:DAYLIGHT
DTSTART:20250330T030000
TZNAME:CEST
TZOFFSETFROM:+0100
TZOFFSETTO:+0200
END:DAYLIGHT
END:VTIMEZONE
END:VCALENDAR
